Workbook

Sheet Day Trading
D1: Portfolio Tracker
A6: Trade Places | I6: Daily Profit | M6: =SUM(M8:M19) -> 0 | N6: Days Of The Month
A7: Date | B7: Symbol | C7: Brought | D7: Sold | E7: Share | F7: Profit | G7: Win/Loss | I7: Days Traded | J7: Days Profit | M7: Monthly Total | N7: 2024 | O7: 1 | P7: =O7+1 -> 2 | Q7: =P7+1 -> 3 | R7: =Q7+1 -> 4 | S7: =R7+1 -> 5 | T7: =S7+1 -> 6 | U7: =T7+1 -> 7 | V7: =U7+1 -> 8 | W7: =V7+1 -> 9 | ... AS7: =AR7+1 -> 31
F8: =SUM(D8-C8)*E8 -> 0 | G8: =IF(E8=0,"",IF(F8>0,"W","L")) | I8: {=_xlfn.UNIQUE(A8:A70)} -> 0 | J8: =IF(A8=0," ",SUMIF(A8:A56,I8,F8:F56)) | L8: 1 | M8: =SUM(O8:AS8) -> 0 | N8: January | O8: =SUMIF($I$8:$I$46,DATE($N$7,$L8,O$7),J$8:$J46) -> 0 | P8: =SUMIF($I$8:$I$46,DATE($N$7,$L8,P$7),$J$8:K46) -> 0 | Q8: =SUMIF($I$8:$I$46,DATE($N$7,$L8,Q$7),$J$8:L46) -> 0 | R8: =SUMIF($I$8:$I$46,DATE($N$7,$L8,R$7),$J$8:M46) -> 0 | S8: =SUMIF($I$8:$I$46,DATE($N$7,$L8,S$7),$J$8:N46) -> 0 | T8: =SUMIF($I$8:$I$46,DATE($N$7,$L8,T$7),$J$8:O46) -> 0 | U8: =SUMIF($I$8:$I$46,DATE($N$7,$L8,U$7),$J$8:P46) -> 0 | V8: =SUMIF($I$8:$I$46,DATE($N$7,$L8,V$7),$J$8:Q46) -> 0 | W8: =SUMIF($I$8:$I$46,DATE($N$7,$L8,W$7),$J$8:R46) -> 0 | ... AS8: =SUMIF($I$8:$I$46,DATE($N$7,$L8,AS$7),$J$8:AN46) -> 0
F9: =SUM(D9-C9)*E9 -> 0 | G9: =IF(E9=0,"",IF(F9>0,"W","L")) | J9: =IF(A9=0,"",SUMIF(A9:A57,I9,F9:F57)) | L9: =L8+1 -> 2 | M9: =SUM(O9:AS9) -> 0 | N9: February | O9: =SUMIF($I$8:$I$46,DATE($N$7,$L9,O$7),J$8:$J47) -> 0 | P9: =SUMIF($I$8:$I$46,DATE($N$7,$L9,P$7),$J$8:K47) -> 0 | Q9: =SUMIF($I$8:$I$46,DATE($N$7,$L9,Q$7),$J$8:L47) -> 0 | R9: =SUMIF($I$8:$I$46,DATE($N$7,$L9,R$7),$J$8:M47) -> 0 | S9: =SUMIF($I$8:$I$46,DATE($N$7,$L9,S$7),$J$8:N47) -> 0 | T9: =SUMIF($I$8:$I$46,DATE($N$7,$L9,T$7),$J$8:O47) -> 0 | U9: =SUMIF($I$8:$I$46,DATE($N$7,$L9,U$7),$J$8:P47) -> 0 | V9: =SUMIF($I$8:$I$46,DATE($N$7,$L9,V$7),$J$8:Q47) -> 0 | W9: =SUMIF($I$8:$I$46,DATE($N$7,$L9,W$7),$J$8:R47) -> 0 | ... AS9: =SUMIF($I$8:$I$46,DATE($N$7,$L9,AS$7),$J$8:AN47) -> 0
F10: =SUM(D10-C10)*E10 -> 0 | G10: =IF(E10=0,"",IF(F10>0,"W","L")) | J10: =IF(A10=0,"",SUMIF(A10:A58,I10,F10:F58)) | L10: =L9+1 -> 3 | M10: =SUM(O10:AS10) -> 0 | N10: March | O10: =SUMIF($I$8:$I$46,DATE($N$7,$L10,O$7),J$8:$J48) -> 0 | P10: =SUMIF($I$8:$I$46,DATE($N$7,$L10,P$7),$J$8:K48) -> 0 | Q10: =SUMIF($I$8:$I$46,DATE($N$7,$L10,Q$7),$J$8:L48) -> 0 | R10: =SUMIF($I$8:$I$46,DATE($N$7,$L10,R$7),$J$8:M48) -> 0 | S10: =SUMIF($I$8:$I$46,DATE($N$7,$L10,S$7),$J$8:N48) -> 0 | T10: =SUMIF($I$8:$I$46,DATE($N$7,$L10,T$7),$J$8:O48) -> 0 | U10: =SUMIF($I$8:$I$46,DATE($N$7,$L10,U$7),$J$8:P48) -> 0 | V10: =SUMIF($I$8:$I$46,DATE($N$7,$L10,V$7),$J$8:Q48) -> 0 | W10: =SUMIF($I$8:$I$46,DATE($N$7,$L10,W$7),$J$8:R48) -> 0 | ... AS10: =SUMIF($I$8:$I$46,DATE($N$7,$L10,AS$7),$J$8:AN48) -> 0
F11: =SUM(D11-C11)*E11 -> 0 | G11: =IF(E11=0,"",IF(F11>0,"W","L")) | J11: =IF(A11=0,"",SUMIF(A11:A59,I11,F11:F59)) | L11: =L10+1 -> 4 | M11: =SUM(O11:AS11) -> 0 | N11: April | O11: =SUMIF($I$8:$I$46,DATE($N$7,$L11,O$7),J$8:$J49) -> 0 | P11: =SUMIF($I$8:$I$46,DATE($N$7,$L11,P$7),$J$8:K49) -> 0 | Q11: =SUMIF($I$8:$I$46,DATE($N$7,$L11,Q$7),$J$8:L49) -> 0 | R11: =SUMIF($I$8:$I$46,DATE($N$7,$L11,R$7),$J$8:M49) -> 0 | S11: =SUMIF($I$8:$I$46,DATE($N$7,$L11,S$7),$J$8:N49) -> 0 | T11: =SUMIF($I$8:$I$46,DATE($N$7,$L11,T$7),$J$8:O49) -> 0 | U11: =SUMIF($I$8:$I$46,DATE($N$7,$L11,U$7),$J$8:P49) -> 0 | V11: =SUMIF($I$8:$I$46,DATE($N$7,$L11,V$7),$J$8:Q49) -> 0 | W11: =SUMIF($I$8:$I$46,DATE($N$7,$L11,W$7),$J$8:R49) -> 0 | ... AS11: =SUMIF($I$8:$I$46,DATE($N$7,$L11,AS$7),$J$8:AN49) -> 0
F12: =SUM(D12-C12)*E12 -> 0 | G12: =IF(E12=0,"",IF(F12>0,"W","L")) | J12: =IF(A12=0,"",SUMIF(A12:A60,I12,F12:F60)) | L12: =L11+1 -> 5 | M12: =SUM(O12:AS12) -> 0 | N12: May | O12: =SUMIF($I$8:$I$46,DATE($N$7,$L12,O$7),J$8:$J50) -> 0 | P12: =SUMIF($I$8:$I$46,DATE($N$7,$L12,P$7),$J$8:K50) -> 0 | Q12: =SUMIF($I$8:$I$46,DATE($N$7,$L12,Q$7),$J$8:L50) -> 0 | R12: =SUMIF($I$8:$I$46,DATE($N$7,$L12,R$7),$J$8:M50) -> 0 | S12: =SUMIF($I$8:$I$46,DATE($N$7,$L12,S$7),$J$8:N50) -> 0 | T12: =SUMIF($I$8:$I$46,DATE($N$7,$L12,T$7),$J$8:O50) -> 0 | U12: =SUMIF($I$8:$I$46,DATE($N$7,$L12,U$7),$J$8:P50) -> 0 | V12: =SUMIF($I$8:$I$46,DATE($N$7,$L12,V$7),$J$8:Q50) -> 0 | W12: =SUMIF($I$8:$I$46,DATE($N$7,$L12,W$7),$J$8:R50) -> 0 | ... AS12: =SUMIF($I$8:$I$46,DATE($N$7,$L12,AS$7),$J$8:AN50) -> 0
F13: =SUM(D13-C13)*E13 -> 0 | G13: =IF(E13=0,"",IF(F13>0,"W","L")) | J13: =IF(A13=0,"",SUMIF(A13:A61,I13,F13:F61)) | L13: =L12+1 -> 6 | M13: =SUM(O13:AS13) -> 0 | N13: June | O13: =SUMIF($I$8:$I$46,DATE($N$7,$L13,O$7),J$8:$J51) -> 0 | P13: =SUMIF($I$8:$I$46,DATE($N$7,$L13,P$7),$J$8:K51) -> 0 | Q13: =SUMIF($I$8:$I$46,DATE($N$7,$L13,Q$7),$J$8:L51) -> 0 | R13: =SUMIF($I$8:$I$46,DATE($N$7,$L13,R$7),$J$8:M51) -> 0 | S13: =SUMIF($I$8:$I$46,DATE($N$7,$L13,S$7),$J$8:N51) -> 0 | T13: =SUMIF($I$8:$I$46,DATE($N$7,$L13,T$7),$J$8:O51) -> 0 | U13: =SUMIF($I$8:$I$46,DATE($N$7,$L13,U$7),$J$8:P51) -> 0 | V13: =SUMIF($I$8:$I$46,DATE($N$7,$L13,V$7),$J$8:Q51) -> 0 | W13: =SUMIF($I$8:$I$46,DATE($N$7,$L13,W$7),$J$8:R51) -> 0 | ... AS13: =SUMIF($I$8:$I$46,DATE($N$7,$L13,AS$7),$J$8:AN51) -> 0
F14: =SUM(D14-C14)*E14 -> 0 | G14: =IF(E14=0,"",IF(F14>0,"W","L")) | J14: =IF(A14=0,"",SUMIF(A14:A62,I14,F14:F62)) | L14: =L13+1 -> 7 | M14: =SUM(O14:AS14) -> 0 | N14: July | O14: =SUMIF($I$8:$I$46,DATE($N$7,$L14,O$7),J$8:$J52) -> 0 | P14: =SUMIF($I$8:$I$46,DATE($N$7,$L14,P$7),$J$8:K52) -> 0 | Q14: =SUMIF($I$8:$I$46,DATE($N$7,$L14,Q$7),$J$8:L52) -> 0 | R14: =SUMIF($I$8:$I$46,DATE($N$7,$L14,R$7),$J$8:M52) -> 0 | S14: =SUMIF($I$8:$I$46,DATE($N$7,$L14,S$7),$J$8:N52) -> 0 | T14: =SUMIF($I$8:$I$46,DATE($N$7,$L14,T$7),$J$8:O52) -> 0 | U14: =SUMIF($I$8:$I$46,DATE($N$7,$L14,U$7),$J$8:P52) -> 0 | V14: =SUMIF($I$8:$I$46,DATE($N$7,$L14,V$7),$J$8:Q52) -> 0 | W14: =SUMIF($I$8:$I$46,DATE($N$7,$L14,W$7),$J$8:R52) -> 0 | ... AS14: =SUMIF($I$8:$I$46,DATE($N$7,$L14,AS$7),$J$8:AN52) -> 0
F15: =SUM(D15-C15)*E15 -> 0 | G15: =IF(E15=0,"",IF(F15>0,"W","L")) | J15: =IF(A15=0,"",SUMIF(A15:A63,I15,F15:F63)) | L15: =L14+1 -> 8 | M15: =SUM(O15:AS15) -> 0 | N15: August | O15: =SUMIF($I$8:$I$46,DATE($N$7,$L15,O$7),J$8:$J53) -> 0 | P15: =SUMIF($I$8:$I$46,DATE($N$7,$L15,P$7),$J$8:K53) -> 0 | Q15: =SUMIF($I$8:$I$46,DATE($N$7,$L15,Q$7),$J$8:L53) -> 0 | R15: =SUMIF($I$8:$I$46,DATE($N$7,$L15,R$7),$J$8:M53) -> 0 | S15: =SUMIF($I$8:$I$46,DATE($N$7,$L15,S$7),$J$8:N53) -> 0 | T15: =SUMIF($I$8:$I$46,DATE($N$7,$L15,T$7),$J$8:O53) -> 0 | U15: =SUMIF($I$8:$I$46,DATE($N$7,$L15,U$7),$J$8:P53) -> 0 | V15: =SUMIF($I$8:$I$46,DATE($N$7,$L15,V$7),$J$8:Q53) -> 0 | W15: =SUMIF($I$8:$I$46,DATE($N$7,$L15,W$7),$J$8:R53) -> 0 | ... AS15: =SUMIF($I$8:$I$46,DATE($N$7,$L15,AS$7),$J$8:AN53) -> 0
F16: =SUM(D16-C16)*E16 -> 0 | G16: =IF(E16=0,"",IF(F16>0,"W","L")) | J16: =IF(A16=0,"",SUMIF(A16:A64,I16,F16:F64)) | L16: =L15+1 -> 9 | M16: =SUM(O16:AS16) -> 0 | N16: September | O16: =SUMIF($I$8:$I$46,DATE($N$7,$L16,O$7),J$8:$J54) -> 0 | P16: =SUMIF($I$8:$I$46,DATE($N$7,$L16,P$7),$J$8:K54) -> 0 | Q16: =SUMIF($I$8:$I$46,DATE($N$7,$L16,Q$7),$J$8:L54) -> 0 | R16: =SUMIF($I$8:$I$46,DATE($N$7,$L16,R$7),$J$8:M54) -> 0 | S16: =SUMIF($I$8:$I$46,DATE($N$7,$L16,S$7),$J$8:N54) -> 0 | T16: =SUMIF($I$8:$I$46,DATE($N$7,$L16,T$7),$J$8:O54) -> 0 | U16: =SUMIF($I$8:$I$46,DATE($N$7,$L16,U$7),$J$8:P54) -> 0 | V16: =SUMIF($I$8:$I$46,DATE($N$7,$L16,V$7),$J$8:Q54) -> 0 | W16: =SUMIF($I$8:$I$46,DATE($N$7,$L16,W$7),$J$8:R54) -> 0 | ... AS16: =SUMIF($I$8:$I$46,DATE($N$7,$L16,AS$7),$J$8:AN54) -> 0
F17: =SUM(D17-C17)*E17 -> 0 | G17: =IF(E17=0,"",IF(F17>0,"W","L")) | J17: =IF(A17=0,"",SUMIF(A17:A65,I17,F17:F65)) | L17: =L16+1 -> 10 | M17: =SUM(O17:AS17) -> 0 | N17: October | O17: =SUMIF($I$8:$I$46,DATE($N$7,$L17,O$7),J$8:$J55) -> 0 | P17: =SUMIF($I$8:$I$46,DATE($N$7,$L17,P$7),$J$8:K55) -> 0 | Q17: =SUMIF($I$8:$I$46,DATE($N$7,$L17,Q$7),$J$8:L55) -> 0 | R17: =SUMIF($I$8:$I$46,DATE($N$7,$L17,R$7),$J$8:M55) -> 0 | S17: =SUMIF($I$8:$I$46,DATE($N$7,$L17,S$7),$J$8:N55) -> 0 | T17: =SUMIF($I$8:$I$46,DATE($N$7,$L17,T$7),$J$8:O55) -> 0 | U17: =SUMIF($I$8:$I$46,DATE($N$7,$L17,U$7),$J$8:P55) -> 0 | V17: =SUMIF($I$8:$I$46,DATE($N$7,$L17,V$7),$J$8:Q55) -> 0 | W17: =SUMIF($I$8:$I$46,DATE($N$7,$L17,W$7),$J$8:R55) -> 0 | ... AS17: =SUMIF($I$8:$I$46,DATE($N$7,$L17,AS$7),$J$8:AN55) -> 0
F18: =SUM(D18-C18)*E18 -> 0 | G18: =IF(E18=0,"",IF(F18>0,"W","L")) | J18: =IF(A18=0,"",SUMIF(A18:A66,I18,F18:F66)) | L18: =L17+1 -> 11 | M18: =SUM(O18:AS18) -> 0 | N18: November | O18: =SUMIF($I$8:$I$46,DATE($N$7,$L18,O$7),J$8:$J56) -> 0 | P18: =SUMIF($I$8:$I$46,DATE($N$7,$L18,P$7),$J$8:K56) -> 0 | Q18: =SUMIF($I$8:$I$46,DATE($N$7,$L18,Q$7),$J$8:L56) -> 0 | R18: =SUMIF($I$8:$I$46,DATE($N$7,$L18,R$7),$J$8:M56) -> 0 | S18: =SUMIF($I$8:$I$46,DATE($N$7,$L18,S$7),$J$8:N56) -> 0 | T18: =SUMIF($I$8:$I$46,DATE($N$7,$L18,T$7),$J$8:O56) -> 0 | U18: =SUMIF($I$8:$I$46,DATE($N$7,$L18,U$7),$J$8:P56) -> 0 | V18: =SUMIF($I$8:$I$46,DATE($N$7,$L18,V$7),$J$8:Q56) -> 0 | W18: =SUMIF($I$8:$I$46,DATE($N$7,$L18,W$7),$J$8:R56) -> 0 | ... AS18: =SUMIF($I$8:$I$46,DATE($N$7,$L18,AS$7),$J$8:AN56) -> 0
F19: =SUM(D19-C19)*E19 -> 0 | G19: =IF(E19=0,"",IF(F19>0,"W","L")) | J19: =IF(A19=0,"",SUMIF(A19:A67,I19,F19:F67)) | L19: =L18+1 -> 12 | M19: =SUM(O19:AS19) -> 0 | N19: December | O19: =SUMIF($I$8:$I$46,DATE($N$7,$L19,O$7),J$8:$J57) -> 0 | P19: =SUMIF($I$8:$I$46,DATE($N$7,$L19,P$7),$J$8:K57) -> 0 | Q19: =SUMIF($I$8:$I$46,DATE($N$7,$L19,Q$7),$J$8:L57) -> 0 | R19: =SUMIF($I$8:$I$46,DATE($N$7,$L19,R$7),$J$8:M57) -> 0 | S19: =SUMIF($I$8:$I$46,DATE($N$7,$L19,S$7),$J$8:N57) -> 0 | T19: =SUMIF($I$8:$I$46,DATE($N$7,$L19,T$7),$J$8:O57) -> 0 | U19: =SUMIF($I$8:$I$46,DATE($N$7,$L19,U$7),$J$8:P57) -> 0 | V19: =SUMIF($I$8:$I$46,DATE($N$7,$L19,V$7),$J$8:Q57) -> 0 | W19: =SUMIF($I$8:$I$46,DATE($N$7,$L19,W$7),$J$8:R57) -> 0 | ... AS19: =SUMIF($I$8:$I$46,DATE($N$7,$L19,AS$7),$J$8:AN57) -> 0
F20: =SUM(D20-C20)*E20 -> 0 | G20: =IF(E20=0,"",IF(F20>0,"W","L")) | J20: =IF(A20=0,"",SUMIF(A20:A68,I20,F20:F68))
F21: =SUM(D21-C21)*E21 -> 0 | G21: =IF(E21=0,"",IF(F21>0,"W","L")) | J21: =IF(A21=0,"",SUMIF(A21:A69,I21,F21:F69)) | M21: Win Amount Total | O21: Loss Amount Total | R21: Best Trade | T21: Worst Trade
F22: =SUM(D22-C22)*E22 -> 0 | G22: =IF(E22=0,"",IF(F22>0,"W","L")) | J22: =IF(A22=0,"",SUMIF(A22:A70,I22,F22:F70))
F23: =SUM(D23-C23)*E23 -> 0 | G23: =IF(E23=0,"",IF(F23>0,"W","L")) | J23: =IF(A23=0,"",SUMIF(A23:A71,I23,F23:F71)) | M23: =SUMIF(G8:G55,"W",F8:F55) -> 0 | O23: =SUMIF(G8:G55,"L",F8:F55) -> 0 | R23: =MAX(F8:F55) -> 0 | T23: =MIN(F8:F55) -> 0
F24: =SUM(D24-C24)*E24 -> 0 | G24: =IF(E24=0,"",IF(F24>0,"W","L")) | J24: =IF(A24=0,"",SUMIF(A24:A72,I24,F24:F72))
F25: =SUM(D25-C25)*E25 -> 0 | G25: =IF(E25=0,"",IF(F25>0,"W","L")) | J25: =IF(A25=0,"",SUMIF(A25:A73,I25,F25:F73))
F26: =SUM(D26-C26)*E26 -> 0 | G26: =IF(E26=0,"",IF(F26>0,"W","L")) | J26: =IF(A26=0,"",SUMIF(A26:A74,I26,F26:F74))
F27: =SUM(D27-C27)*E27 -> 0 | G27: =IF(E27=0,"",IF(F27>0,"W","L")) | J27: =IF(A27=0,"",SUMIF(A27:A75,I27,F27:F75))
F28: =SUM(D28-C28)*E28 -> 0 | G28: =IF(E28=0,"",IF(F28>0,"W","L")) | J28: =IF(A28=0,"",SUMIF(A28:A76,I28,F28:F76))
F29: =SUM(D29-C29)*E29 -> 0 | G29: =IF(E29=0,"",IF(F29>0,"W","L")) | J29: =IF(A29=0,"",SUMIF(A29:A77,I29,F29:F77))
F30: =SUM(D30-C30)*E30 -> 0 | G30: =IF(E30=0,"",IF(F30>0,"W","L")) | J30: =IF(A30=0,"",SUMIF(A30:A78,I30,F30:F78))
F31: =SUM(D31-C31)*E31 -> 0 | G31: =IF(E31=0,"",IF(F31>0,"W","L")) | J31: =IF(A31=0,"",SUMIF(A31:A79,I31,F31:F79))
F32: =SUM(D32-C32)*E32 -> 0 | G32: =IF(E32=0,"",IF(F32>0,"W","L")) | J32: =IF(A32=0,"",SUMIF(A32:A80,I32,F32:F80))
F33: =SUM(D33-C33)*E33 -> 0 | G33: =IF(E33=0,"",IF(F33>0,"W","L")) | J33: =IF(A33=0,"",SUMIF(A33:A81,I33,F33:F81))
F34: =SUM(D34-C34)*E34 -> 0 | G34: =IF(E34=0,"",IF(F34>0,"W","L")) | J34: =IF(A34=0,"",SUMIF(A34:A82,I34,F34:F82))
F35: =SUM(D35-C35)*E35 -> 0 | G35: =IF(E35=0,"",IF(F35>0,"W","L")) | J35: =IF(A35=0,"",SUMIF(A35:A83,I35,F35:F83))
... F49: =SUM(D49-C49)*E49 -> 0 | G49: =IF(E49=0,"",IF(F49>0,"W","L")) | J49: =IF(A49=0,"",SUMIF(A49:A97,I49,F49:F97))
F50: =SUM(D50-C50)*E50 -> 0 | G50: =IF(E50=0,"",IF(F50>0,"W","L"))
F51: =SUM(D51-C51)*E51 -> 0 | G51: =IF(E51=0,"",IF(F51>0,"W","L"))
F52: =SUM(D52-C52)*E52 -> 0 | G52: =IF(E52=0,"",IF(F52>0,"W","L"))
F53: =SUM(D53-C53)*E53 -> 0 | G53: =IF(E53=0,"",IF(F53>0,"W","L"))
F54: =SUM(D54-C54)*E54 -> 0 | G54: =IF(E54=0,"",IF(F54>0,"W","L"))
F55: =SUM(D55-C55)*E55 -> 0 | G55: =IF(E55=0,"",IF(F55>0,"W","L"))

Sheet Day Trading Dashboard
B2: Day Trading Dashboard
B6: Total Profit | F6: Average Profit Trade | J6: Average Profit Per Day
B7: ='Day Trading'!M6 -> 0 | F7: =AVERAGE('Day Trading'!F8:F55) -> 0 | J7: =AVERAGE('Day Trading'!J8:J49) -> #DIV/0!
B13: Wins | F13: Losses | J13: Win Percentage
B14: =COUNTIF('Day Trading'!G8:G55,"W") -> 0 | F14: =COUNTIF('Day Trading'!G8:G55,"L") -> 0 | J14: =B14/(B14+F14) -> #DIV/0!
